BEGIN:VCALENDAR
VERSION:2.0
PRODID:-//hacksw/handcal//NONSGML v1.0//EN
BEGIN:VEVENT
SUMMARY:Seance du mercredi 22 Avril 2026
UID:4c9674e7-7cde-42fb-9940-2be42a3fe791
DTSTART:20260422T130000Z
DTEND:20260422T143000Z
LOCATION:Localisation   
CATEGORIES:Entrainement
STATUS:
DESCRIPTION:<p>Bonjour</p>
 
 <p>RDV a 14h 50 a l'angle de la rue du
 stade et des sports a Pont Saint Martin pour un depart a
 15h</p>
 
 <p>Patrick et Georges</p>
URL;VALUE=URI:https://herbaugesathle44.sportsregions.fr/evenements/2026/04/22/seance-du-mercredi-22-avril-2026-2443580
END:VEVENT
END:VCALENDAR
