BEGIN:VCALENDAR
VERSION:2.0
PRODID:-//hacksw/handcal//NONSGML v1.0//EN
BEGIN:VEVENT
SUMMARY:Seance du 20 Avril 2026
UID:b73d4b88-2a66-44bf-ba02-6e0dd8581588
DTSTART:20260420T170000Z
DTEND:20260420T183000Z
LOCATION:Localisation   
CATEGORIES:Entrainement
STATUS:
DESCRIPTION:<p>Bonjour</p>
 
 <p>RDV a Port Hamoneau (Brains) a 18h50 
 pour un depart a 19 h</p>
 
 <p>Georges et Gerard</p>
URL;VALUE=URI:https://herbaugesathle44.sportsregions.fr/evenements/2026/04/20/seance-du-20-avril-2026-2442724
END:VEVENT
END:VCALENDAR
