BEGIN:VCALENDAR
VERSION:2.0
PRODID:-//hacksw/handcal//NONSGML v1.0//EN
BEGIN:VEVENT
SUMMARY:Seance du lundi 13 avril
UID:366e2c66-e3be-456e-8f6c-be09f9440b42
DTSTART:20260413T170000Z
DTEND:20260413T183000Z
LOCATION:Localisation la Barcalais 44830 Bouaye
CATEGORIES:Entrainement
STATUS:
DESCRIPTION:<p>Bonjour,</p>
 
 <p>Rendez-vous demain a la Barcalais a
 Bouaye a 18h50 pour un depart a 19h.</p>
 
 <p>Gilet jaune et par
 securite lampe frontale dans le sac.</p>
 
 <p>Bonne soiree et a
 demain </p>
 
 <p>Gerard et Pascale</p>
URL;VALUE=URI:https://herbaugesathle44.sportsregions.fr/evenements/2026/04/13/seance-du-lundi-13-avril-2440448
END:VEVENT
END:VCALENDAR
