BEGIN:VCALENDAR
VERSION:2.0
PRODID:-//hacksw/handcal//NONSGML v1.0//EN
BEGIN:VEVENT
SUMMARY:Seance du lundi 16 mars 2026
UID:9ff97a70-40cd-4a0c-a117-07c532046010
DTSTART:20260316T180000Z
DTEND:20260316T193000Z
LOCATION:Localisation Parking des clots mats 44830 BRAINS
CATEGORIES:Entrainement
STATUS:
DESCRIPTION:<p>Pensez a vos gilets reflechissants et vos
 lampes.</p>
 
 <p>Gerard et Evelyne</p>
URL;VALUE=URI:https://herbaugesathle44.sportsregions.fr/evenements/2026/03/16/seance-du-lundi-16-mars-2026-2428525
END:VEVENT
END:VCALENDAR
