BEGIN:VCALENDAR
VERSION:2.0
PRODID:-//hacksw/handcal//NONSGML v1.0//EN
BEGIN:VEVENT
SUMMARY:Seance du samedi 14 mars
UID:2f41b94f-235c-4a71-8658-8b305cc02f4c
DTSTART:20260314T083000Z
DTEND:20260314T100000Z
LOCATION:Localisation route de la Mouchonnerie 44340 Bouguenais
CATEGORIES:Entrainement
STATUS:
URL;VALUE=URI:https://herbaugesathle44.sportsregions.fr/evenements/2026/03/14/seance-du-samedi-14-mars-2427262
END:VEVENT
END:VCALENDAR
