BEGIN:VCALENDAR
VERSION:2.0
PRODID:-//hacksw/handcal//NONSGML v1.0//EN
BEGIN:VEVENT
SUMMARY:Seance de mercredi 11 fevrier
UID:5f4d5989-bcc2-41e2-8939-4f003cfb9db3
DTSTART:20260311T140000Z
DTEND:20260311T153000Z
LOCATION:Localisation RDV a la Barcalais devant le recoltant viticole 44860 Bouaye
CATEGORIES:Entrainement
STATUS:
URL;VALUE=URI:https://herbaugesathle44.sportsregions.fr/evenements/2026/03/11/seance-de-mercredi-11-fevrier-2426100
END:VEVENT
END:VCALENDAR
