BEGIN:VCALENDAR
VERSION:2.0
PRODID:-//hacksw/handcal//NONSGML v1.0//EN
BEGIN:VEVENT
SUMMARY:Seance du lundi 2 Mars 2026
UID:10c842c8-79f3-4919-9429-0fadf9d57655
DTSTART:20260302T180000Z
DTEND:20260302T193000Z
LOCATION:Localisation Parking des clots mats 44830 BRAINS
CATEGORIES:Entrainement
STATUS:
URL;VALUE=URI:https://herbaugesathle44.sportsregions.fr/evenements/2026/03/02/seance-du-lundi-2-mars-2026-2422225
END:VEVENT
END:VCALENDAR
